Workbook

Sheet Sheet1
H2: Anexa nr. 4
G3: la Regulamentul cu privire la mecanismul
G4: de finanțare nerambursabilă a proiectelor implementate
A5: Bugetul estimativ | G5: de organizațiile necomerciale din domeniul turismului
A6: Denumirea proiectului
A7: Denumirea organizației
A9: Linia de buget | B9: Articolele de cheltuieli | C9: Unitatea de măsură | D9: Cost per unitate | E9: Număr de unități | F9: Total lei | G9: Suma solicitată de la instituția finanțatoare | H9: Cofinanțare | I9: Tip Cofinanțare (Financiar/ În natură)
A10: 1 | B10: Cheltuieli pentru activități | F10: =SUM(Sheet1!$E10*Sheet1!$D10) -> 0
A11: 1.1 | F11: =SUM(Sheet1!$E11*Sheet1!$D11) -> 0
A12: 1.2 | F12: =SUM(Sheet1!$E12*Sheet1!$D12) -> 0
A13: … | F13: =SUM(Sheet1!$E13*Sheet1!$D13) -> 0
A14: Subtotal | F14: =SUBTOTAL(109, F10:F13) -> 0 | G14: =SUBTOTAL(109, G10:G13) -> 0 | H14: =SUBTOTAL(109, H10:H13) -> 0
A15: 2 | B15: Remunerarea muncii angajaților | F15: =SUM(Sheet1!$E15*Sheet1!$D15) -> 0
A16: 2.1 | F16: =SUM(Sheet1!$E16*Sheet1!$D16) -> 0
A17: 2.2 | F17: =SUM(Sheet1!$E17*Sheet1!$D17) -> 0
A18: Subtotal | F18: =SUBTOTAL(109,F15:F17) -> 0 | G18: =SUBTOTAL(109,G15:G17) -> 0 | H18: =SUBTOTAL(109,H15:H17) -> 0
A19: 3 | B19: Contribuții de asigurări sociale de stat obligatorii | F19: =SUM(Sheet1!$E19*Sheet1!$D19) -> 0
A20: 3.1 | F20: =SUM(Sheet1!$E20*Sheet1!$D20) -> 0
A21: 3.2 | F21: =SUM(Sheet1!$E21*Sheet1!$D21) -> 0
A22: … | F22: =SUM(Sheet1!$E22*Sheet1!$D22) -> 0
A23: Subtotal | F23: =SUBTOTAL(109,F19:F22) -> 0 | G23: =SUBTOTAL(109,G19:G22) -> 0 | H23: =SUBTOTAL(109,H19:H22) -> 0
A24: 4 | B24: Cheltuieli administrative | F24: =SUM(Sheet1!$E24*Sheet1!$D24) -> 0
A25: 4.1 | F25: =SUM(Sheet1!$E25*Sheet1!$D25) -> 0
A26: 4.2 | F26: =SUM(Sheet1!$E26*Sheet1!$D26) -> 0
A27: … | F27: =SUM(Sheet1!$E27*Sheet1!$D27) -> 0
A28: Subtotal | F28: =SUBTOTAL(109,F24:F27) -> 0 | G28: =SUBTOTAL(109,G24:G27) -> 0 | H28: =SUBTOTAL(109,H24:H27) -> 0
A29: Total: | F29: =SUM(F28,F23,F18,F14) -> 0 | G29: =SUM(G28,G23,G18,G14) -> 0 | H29: =SUM(H28,H23,H18,H14) -> 0
A31: Președinte/ conducător al organizației
A32: Responsabil financiar al organizației
A33: Data
A35: 1. Articolele de cheltuieli pot fi modificate și/sau completate în funcție de specificul proiectului.
A36: 2. Cheltuielile de salarizare a echipei de implementare și cele administrative necesare pentru implementarea proiectului (punctele 2, 3 și 4) nu vor depăși 25% din valoarea lui și vor conține inclusiv costuri pentru contribuțiile de asigurări sociale de stat obligatorii.
A37: 3. Cheltuielile administrative pot include: plăți pentru chiria birourilor, servicii de întreținere, internet, telefonie și altele care nu pot fi atribuite la articolele de cheltuieli directe pentru activități, conform specificului proiectului.
A38: 4. Cofinanțarea de minimum 20% din valoarea totală a proiectului este obligatorie și poate fi compusă din contribuție financiară (minimum 10% cash raportat la totalul proiectului) și contribuție in-kind (maximum 10%, evaluată la prețul pieței pentru resurse precum munca voluntară a ghizilor sau experților, utilizarea spațiilor și oficiilor proprii, folosirea echipamentelor tehnice sau a mijloacelor de transport deținute de organizație, precum și materiale promoționale sau catering oferit gratuit de parteneri), toate aceste contribuții trebuind să fie direct legate de activitățile proiectului și probate prin documente justificative.
